BEGIN:VCALENDAR
VERSION:2.0
PRODID:-//Ecole Internationale de Sumi-e - ECPv6.15.20//NONSGML v1.0//EN
CALSCALE:GREGORIAN
METHOD:PUBLISH
X-ORIGINAL-URL:https://ecole.sumi-e.fr
X-WR-CALDESC:Évènements pour Ecole Internationale de Sumi-e
REFRESH-INTERVAL;VALUE=DURATION:PT1H
X-Robots-Tag:noindex
X-PUBLISHED-TTL:PT1H
BEGIN:VTIMEZONE
TZID:Europe/Paris
BEGIN:DAYLIGHT
TZOFFSETFROM:+0100
TZOFFSETTO:+0200
TZNAME:CEST
DTSTART:20180325T010000
END:DAYLIGHT
BEGIN:STANDARD
TZOFFSETFROM:+0200
TZOFFSETTO:+0100
TZNAME:CET
DTSTART:20181028T010000
END:STANDARD
BEGIN:DAYLIGHT
TZOFFSETFROM:+0100
TZOFFSETTO:+0200
TZNAME:CEST
DTSTART:20190331T010000
END:DAYLIGHT
BEGIN:STANDARD
TZOFFSETFROM:+0200
TZOFFSETTO:+0100
TZNAME:CET
DTSTART:20191027T010000
END:STANDARD
BEGIN:DAYLIGHT
TZOFFSETFROM:+0100
TZOFFSETTO:+0200
TZNAME:CEST
DTSTART:20200329T010000
END:DAYLIGHT
BEGIN:STANDARD
TZOFFSETFROM:+0200
TZOFFSETTO:+0100
TZNAME:CET
DTSTART:20201025T010000
END:STANDARD
BEGIN:DAYLIGHT
TZOFFSETFROM:+0100
TZOFFSETTO:+0200
TZNAME:CEST
DTSTART:20210328T010000
END:DAYLIGHT
BEGIN:STANDARD
TZOFFSETFROM:+0200
TZOFFSETTO:+0100
TZNAME:CET
DTSTART:20211031T010000
END:STANDARD
BEGIN:DAYLIGHT
TZOFFSETFROM:+0100
TZOFFSETTO:+0200
TZNAME:CEST
DTSTART:20220327T010000
END:DAYLIGHT
BEGIN:STANDARD
TZOFFSETFROM:+0200
TZOFFSETTO:+0100
TZNAME:CET
DTSTART:20221030T010000
END:STANDARD
END:VTIMEZONE
BEGIN:VEVENT
DTSTART;TZID=Europe/Paris:20210710T083000
DTEND;TZID=Europe/Paris:20210714T180000
DTSTAMP:20260423T123356
CREATED:20200707T105654Z
LAST-MODIFIED:20210429T152941Z
UID:10000232-1625905800-1626285600@ecole.sumi-e.fr
SUMMARY:Séminaire 10-14/07/2021
DESCRIPTION:This post is also available in: \n\n	English\n En raison du risque de restrictions sanitaires\, le stage est reporté du 24 au 29 août à Lanau.\nNeuvième séminaire de l’Ecole\, de 5  jours\, avec pratique et méditation.\nA Ermitage-Accueil\, Versailles\, salles Abbé Pierre et Mère Teresa pour la peinture\, Frère Robert pour la méditation.\nLe stage est ouvert à tous. Le prix indiqué est celui demandé aux auditeurs libres pour le stage entier. Il est possible de ne venir que pendant 2 jours\, le weekend des 10-11 juillet.\nL’Ermitage propose un hébergement sur place\, Voir la description du lieu en suivant ce lien.\nEnseignants Beppe Mokuza Signoritti et Alain Plaignaud. \nDéroulement du séminaire: \nSamedi 10 juillet \n\n8h30 Accueil des participants\n9h30 Pratique du sumi-e\n12h30 Pause déjeuner\n15h00 Pratique du sumi-e\n18h00 Rangement\n19h00 Pause dîner\n20h00 Méditation facultative\n\nDimanche 11\, lundi 12\, mardi 13 avril \n\n7h00 Méditation facultative\n8h30 Pause petit-déjeuner\n9h30 Pratique du sumi-e\n12h30 Pause déjeuner\n15h00 Pratique du sumi-e\n18h00 Rangement\n19h00 Pause dîner\n20h00 Méditation facultative\n\nMercredi 14 juillet \n\n7h00 Méditation facultative\n8h30 Pause petit-déjeuner\n9h00 Pratique du sumi-e\n12h30 Pause déjeuner\n14h30 Pratique du sumi-e\n17h30 Rangement\n18h00 Fin du séminaire
URL:https://ecole.sumi-e.fr/evenement/seminaire-10-14-07-2021/
LOCATION:Ermitage Accueil Versailles\, 21-23 rue de l'Ermitage\, Versailles\, 78000\, France
CATEGORIES:Stage
END:VEVENT
BEGIN:VEVENT
DTSTART;TZID=Europe/Paris:20210424T083000
DTEND;TZID=Europe/Paris:20210428T180000
DTSTAMP:20260423T123356
CREATED:20200707T093307Z
LAST-MODIFIED:20210426T093148Z
UID:10000233-1619253000-1619632800@ecole.sumi-e.fr
SUMMARY:Séminaire 24-28/04/2021
DESCRIPTION:This post is also available in: \n\n	English\n En raison du maintien des restrictions sanitaires\, le stage est annulé.\nSixième séminaire de l’Ecole\, de 5  jours\, avec pratique et méditation.\nA Ermitage-Accueil\, Versailles\, salles Abbé Pierre et Mère Teresa pour la peinture\, Frère Robert pour la méditation.\nLe stage est ouvert à tous. Le prix indiqué est celui demandé aux auditeurs libres pour le stage entier. Il est possible de ne venir que pendant 2 jours\, le weekend des 24-25 avril.\nL’Ermitage propose un hébergement sur place\, Voir la description du lieu en suivant ce lien.\nEnseignants Beppe Mokuza Signoritti et Alain Plaignaud. \nDéroulement du séminaire: \nSamedi 24 avril \n\n8h30 Accueil des participants\n9h30 Pratique du sumi-e\n12h30 Pause déjeuner\n15h00 Pratique du sumi-e\n18h00 Rangement\n19h00 Pause dîner\n20h00 Méditation facultative\n\nDimanche 25\, lundi 26\, mardi 27 avril \n\n7h00 Méditation facultative\n8h30 Pause petit-déjeuner\n9h30 Pratique du sumi-e\n12h30 Pause déjeuner\n15h00 Pratique du sumi-e\n18h00 Rangement\n19h00 Pause dîner\n20h00 Méditation facultative\n\nMercredi 28 avril \n\n7h00 Méditation facultative\n8h30 Pause petit-déjeuner\n9h00 Pratique du sumi-e\n12h30 Pause déjeuner\n14h30 Pratique du sumi-e\n17h30 Rangement\n18h00 Fin du séminaire
URL:https://ecole.sumi-e.fr/evenement/seminaire-24-28-04-2021/
LOCATION:Ermitage Accueil Versailles\, 21-23 rue de l'Ermitage\, Versailles\, 78000\, France
CATEGORIES:Stage
END:VEVENT
BEGIN:VEVENT
DTSTART;TZID=Europe/Paris:20200825T093000
DTEND;TZID=Europe/Paris:20200829T180000
DTSTAMP:20260423T123356
CREATED:20200615T085927Z
LAST-MODIFIED:20220106T150339Z
UID:10000235-1598347800-1598724000@ecole.sumi-e.fr
SUMMARY:Séminaire 25-29/08/2020
DESCRIPTION:This post is also available in: \n\n	English\n \n\n\nStage de sumi-e initialement prévu en juillet 2020 à Versailles\, décalé en août en raison du COVID-19\, et qui est le septième séminaire de l’Ecole\, de 5  jours\, avec pratique et méditation.\nA Ermitage-Accueil\, Versailles\, salles Mère Teresa pour la peinture et Frère Robert pour la méditation.\nLe stage est ouvert à tous. Le prix indiqué est celui demandé aux auditeurs libres pour le stage entier. Il est possible de ne venir que pendant 2 jours\, les vendredi 28 et samedi 29 août.\nL’Ermitage propose un hébergement sur place\, Voir la description du lieu en suivant ce lien.\nEnseignants Beppe Mokuza Signoritti et Alain Plaignaud.\n\nCliquez sur la brochure du stage pour la télécharger :\n\n\n\nDéroulement du séminaire:\n\nMardi 25 août\n\n 	8h30 Accueil des participants\n 	9h30 Pratique du sumi-e\n 	12h30 Pause déjeuner\n 	15h00 Pratique du sumi-e\n 	18h00 Rangement\n 	19h00 Pause dîner\n 	20h00 Méditation facultative\n\nMercredi 26\, jeudi 27\, vendredi 28 août\n\n 	7h00 Méditation facultative\n 	8h30 Pause petit-déjeuner\n 	9h30 Pratique du sumi-e\n 	12h30 Pause déjeuner\n 	15h00 Pratique du sumi-e\n 	18h00 Rangement\n 	19h00 Pause dîner\n 	20h00 Méditation facultative\n\nSamedi 29 août\n\n 	7h00 Méditation facultative\n 	8h30 Pause petit-déjeuner\n 	9h00 Pratique du sumi-e\n 	12h30 Pause déjeuner\n 	14h30 Pratique du sumi-e\n 	17h30 Rangement\n 	18h00 Fin du séminaire
URL:https://ecole.sumi-e.fr/evenement/stage-sumi-e-versailles-25-29-08-2020/
LOCATION:Ermitage Accueil Versailles\, 21-23 rue de l'Ermitage\, Versailles\, 78000\, France
CATEGORIES:Stage
END:VEVENT
BEGIN:VEVENT
DTSTART;TZID=Europe/Paris:20200701T093000
DTEND;TZID=Europe/Paris:20200705T180000
DTSTAMP:20260423T123356
CREATED:20190707T110442Z
LAST-MODIFIED:20200619T135559Z
UID:10000207-1593595800-1593972000@ecole.sumi-e.fr
SUMMARY:Séminaire 01-05/07/2020
DESCRIPTION:This post is also available in: \n\n	English\n En raison des incertitudes sur les restrictions sanitaires du COVID-19\, l’Ecole reporte le stage du 25 au 29 août.\nStage de sumi-e de juillet 2020 à Versailles\, qui est le septième séminaire de l’Ecole\, de 5  jours\, avec pratique et méditation.\nA Ermitage-Accueil\, Versailles\, salles Mère Teresa pour la peinture et Frère Robert pour la méditation.\nLe stage est ouvert à tous. Le prix indiqué est celui demandé aux auditeurs libres pour le stage entier. Il est possible de ne venir que pendant le weekend samedi et dimanche.\nL’Ermitage propose un hébergement sur place\, Voir la description du lieu en suivant ce lien.\nEnseignants Beppe Mokuza Signoritti et Alain Plaignaud. \nCliquez sur la brochure du stage pour la télécharger : \nDescription du stage et informations pratiques pour l’inscription et la venue. \nDéroulement du séminaire: \nMercredi 1er juillet \n\n8h30 Accueil des participants\n9h30 Pratique du sumi-e\n12h30 Pause déjeuner\n15h00 Pratique du sumi-e\n18h00 Rangement\n19h00 Pause dîner\n20h00 Méditation facultative\n\nJeudi 02\, vendredi 03\, samedi 04 juillet \n\n7h00 Méditation facultative\n8h30 Pause petit-déjeuner\n9h30 Pratique du sumi-e\n12h30 Pause déjeuner\n15h00 Pratique du sumi-e\n18h00 Rangement\n19h00 Pause dîner\n20h00 Méditation facultative\n\nDimanche 05 juillet \n\n7h00 Méditation facultative\n8h30 Pause petit-déjeuner\n9h00 Pratique du sumi-e\n12h30 Pause déjeuner\n14h30 Pratique du sumi-e\n17h30 Rangement\n18h00 Fin du séminaire
URL:https://ecole.sumi-e.fr/evenement/stage-sumi-e-versailles-seminaire-01-05-07-2020/
LOCATION:Ermitage Accueil Versailles\, 21-23 rue de l'Ermitage\, Versailles\, 78000\, France
CATEGORIES:Stage
END:VEVENT
BEGIN:VEVENT
DTSTART;TZID=Europe/Paris:20200509T093000
DTEND;TZID=Europe/Paris:20200510T180000
DTSTAMP:20260423T123356
CREATED:20190707T105951Z
LAST-MODIFIED:20200416T170408Z
UID:10000208-1589016600-1589133600@ecole.sumi-e.fr
SUMMARY:Séminaire 09-10/05/2020
DESCRIPTION:This post is also available in: \n\n	English\n En raison du confinement étendu jusqu’au 11 mai\, l’Ecole reporte le stage.\nConditions de ce report : L’Ecole et l’Ermitage reportent les acomptes déjà perçus sur de nouvelles dates qui seront bientôt publiées. Si ces dates ne convenaient pas\, les acomptes seraient remboursés. \nSixième séminaire de 2 jours\, pratique et théorie.\nA Ermitage-Accueil\, Versailles\, salle Yunus.\nOuvert à tous. Le prix indiqué est celui des auditeurs libres.\nEnseignant Alain Plaignaud. \nDéroulement du séminaire: \nSamedi 09 mai \n\n7:00 Accueil des participants à la méditation\n7:15 Méditation facultative\n8:30 Pause petit-déjeuner / Accueil des participants\n9:30 Pratique du sumi-e\n12:30 Pause déjeuner\n14:30 Pratique du sumi-e\n16:30 Atelier-conférence – Atelier sur le Geste\n19:00 Pause dîner\n20:00 Méditation (facultative)\n21:00 Echanges\n\nDimanche 10 mai \n\n7:00 Méditation facultative\n8:00 Pause petit-déjeuner\n9:00 Pratique du sumi-e\n12:30 Pause déjeuner\n14:30 Pratique du sumi-e\n17:30 Rangement\n18:00 Fin du séminaire
URL:https://ecole.sumi-e.fr/evenement/seminaire-09-10-05-2020/
LOCATION:Ermitage Accueil Versailles\, 21-23 rue de l'Ermitage\, Versailles\, 78000\, France
CATEGORIES:Weekend
END:VEVENT
BEGIN:VEVENT
DTSTART;TZID=Europe/Paris:20200408T093000
DTEND;TZID=Europe/Paris:20200413T140000
DTSTAMP:20260423T123356
CREATED:20190707T105452Z
LAST-MODIFIED:20200330T114336Z
UID:10000209-1586338200-1586786400@ecole.sumi-e.fr
SUMMARY:Séminaire 08-13/04/2020
DESCRIPTION:This post is also available in: \n\n	English\n En raison du confinement étendu jusqu’au 15 avril\, l’Ecole reporte le stage.\nConditions de ce report : L’Ecole et l’Ermitage reportent les acomptes déjà perçus sur de nouvelles dates qui seront bientôt publiées. Si ces dates ne convenaient pas\, les acomptes seraient remboursés. \nStage de sumi-e d’avril 2020 à Versailles\, qui est le cinquième séminaire de l’Ecole\, de 5  jours et demi\, avec pratique et méditation.\nA Ermitage-Accueil\, Versailles\, salles Mère Teresa pour la peinture et Frère Robert pour la méditation.\nLe stage est ouvert à tous. Le prix indiqué est celui demandé aux auditeurs libres pour le stage entier. Il est possible de ne venir que pendant le weekend de samedi à lundi midi.\nL’Ermitage propose un hébergement sur place\, Voir la description du lieu en suivant ce lien.\nEnseignants Beppe Mokuza Signoritti et Alain Plaignaud. \nCliquez sur la brochure du stage pour la télécharger : \n \nVoir les Conditions Générales de Vente. \nDéroulement du séminaire : \nMercredi 08 avril \n\n8h30 Accueil des participants\n9h30 Pratique du sumi-e\n12h30 Pause déjeuner\n15h00 Pratique du sumi-e\n19h00 Pause dîner\n20h00 Méditation facultative\n\nJeudi 09\, vendredi 10\, samedi 11\, dimanche 12 avril \n\n7h00 Méditation facultative\n8h30 Pause petit-déjeuner\n9h30 Pratique du sumi-e\n12h30 Pause déjeuner\n15h00 Pratique du sumi-e\n19h00 Pause dîner\n20h00 Méditation facultative\n\nLundi 13  avril \n\n7h00 Méditation facultative\n8h30 Pause petit-déjeuner\n9h00 Pratique du sumi-e\n12h30 Pause déjeuner\n13h30 Rangement\n14h00 Fin du séminaire
URL:https://ecole.sumi-e.fr/evenement/stage-sumi-e-versailles-seminaire-08-13-04-2020/
LOCATION:Ermitage Accueil Versailles\, 21-23 rue de l'Ermitage\, Versailles\, 78000\, France
CATEGORIES:Stage
END:VEVENT
BEGIN:VEVENT
DTSTART;TZID=Europe/Paris:20200118T093000
DTEND;TZID=Europe/Paris:20200119T180000
DTSTAMP:20260423T123356
CREATED:20190707T104925Z
LAST-MODIFIED:20191106T152923Z
UID:10000210-1579339800-1579456800@ecole.sumi-e.fr
SUMMARY:Séminaire 18-19/01/2020
DESCRIPTION:This post is also available in: \n\n	English\n Quatrième séminaire de 2 jours\, pratique et théorie.\nA Ermitage-Accueil\, Versailles\, salle Yunus.\nOuvert à tous. Le prix indiqué est celui des auditeurs libres. \nDéroulement du séminaire: \nSamedi 18 janvier \n\n7:00 Accueil des participants à la méditation\n7:15 Méditation facultative\n8:30 Pause petit-déjeuner / Accueil des participants\n9:30 Pratique du sumi-e\n12:30 Pause déjeuner\n14:30 Pratique du sumi-e\n16:30 Atelier-conférence – Typologie de modèles de bambous\, symboles\n19:00 Pause dîner\n20:00 Méditation (facultative)\n21:00 Echanges\n\nDimanche 19 janvier \n\n7:00 Méditation facultative\n8:00 Pause petit-déjeuner\n9:00 Pratique du sumi-e\n12:30 Pause déjeuner\n14:30 Pratique du sumi-e\n17:30 Rangement\n18:00 Fin du séminaire
URL:https://ecole.sumi-e.fr/evenement/seminaire-18-19-01-2020/
LOCATION:Ermitage Accueil Versailles\, 21-23 rue de l'Ermitage\, Versailles\, 78000\, France
CATEGORIES:Weekend
END:VEVENT
BEGIN:VEVENT
DTSTART;TZID=Europe/Paris:20191214T093000
DTEND;TZID=Europe/Paris:20191215T180000
DTSTAMP:20260423T123356
CREATED:20190707T104525Z
LAST-MODIFIED:20191106T152715Z
UID:10000211-1576315800-1576432800@ecole.sumi-e.fr
SUMMARY:Séminaire 14-15/12/2019
DESCRIPTION:This post is also available in: \n\n	English\n Troisième séminaire de 2 jours\, pratique et théorie.\nA Ermitage-Accueil\, Versailles\, salle Yunus.\nOuvert à tous. Le prix indiqué est celui des auditeurs libres.\nEnseignant Alain Plaignaud. \nDéroulement du séminaire: \nSamedi 14 décembre \n\n7:00 Accueil des participants à la méditation\n7:15 Méditation facultative\n8:30 Pause petit-déjeuner / Accueil des participants\n9:30 Pratique du sumi-e\n12:30 Pause déjeuner\n14:30 Pratique du sumi-e\n16:30 Atelier-conférence – L’Unique Trait de Pinceau\, analyse d’oeuvres\n19:00 Pause dîner\n20:00 Méditation (facultative)\n21:00 Echanges\n\nDimanche 15 décembre \n\n7:00 Méditation facultative\n8:00 Pause petit-déjeuner\n9:00 Pratique du sumi-e\n12:30 Pause déjeuner\n14:30 Pratique du sumi-e\n17:30 Rangement\n18:00 Fin du séminaire
URL:https://ecole.sumi-e.fr/evenement/seminaire-14-15-12-2019/
LOCATION:Ermitage Accueil Versailles\, 21-23 rue de l'Ermitage\, Versailles\, 78000\, France
CATEGORIES:Weekend
END:VEVENT
BEGIN:VEVENT
DTSTART;TZID=Europe/Paris:20191116T093000
DTEND;TZID=Europe/Paris:20191117T180000
DTSTAMP:20260423T123356
CREATED:20190707T104026Z
LAST-MODIFIED:20191106T152415Z
UID:10000212-1573896600-1574013600@ecole.sumi-e.fr
SUMMARY:Séminaire 16-17/11/2019
DESCRIPTION:This post is also available in: \n\n	English\n Deuxième séminaire de 2 jours\, pratique et théorie.\nA Ermitage-Accueil\, Versailles\, salle Yunus.\nOuvert à tous. Le prix indiqué est celui des auditeurs libres.\nEnseignant Alain Plaignaud. \nDéroulement du séminaire: \nSamedi 16 novembre \n\n7:00 Accueil des participants à la méditation\n7:15 Méditation facultative\n8:30 Pause petit-déjeuner / Accueil des participants\n9:30 Pratique du sumi-e\n12:30 Pause déjeuner\n14:30 Pratique du sumi-e\n16:30 Atelier-conférence – Composition\, Vide et Plein\n19:00 Pause dîner\n20:00 Méditation (facultative)\n21:00 Echanges\n\nDimanche 17 novembre \n\n7:00 Méditation facultative\n8:00 Pause petit-déjeuner\n9:00 Pratique du sumi-e\n12:30 Pause déjeuner\n14:30 Pratique du sumi-e\n17:30 Rangement\n18:00 Fin du séminaire
URL:https://ecole.sumi-e.fr/evenement/seminaire-16-17-11-2019/
LOCATION:Ermitage Accueil Versailles\, 21-23 rue de l'Ermitage\, Versailles\, 78000\, France
CATEGORIES:Weekend
END:VEVENT
BEGIN:VEVENT
DTSTART;TZID=Europe/Paris:20191019T070000
DTEND;TZID=Europe/Paris:20191020T180000
DTSTAMP:20260423T123356
CREATED:20190707T103511Z
LAST-MODIFIED:20200706T165706Z
UID:10000213-1571468400-1571594400@ecole.sumi-e.fr
SUMMARY:Séminaire 19-20/10/2019
DESCRIPTION:This post is also available in: \n\n	English\n Premier séminaire de 2 jours\, pratique et théorie.\nA Ermitage-Accueil\, Versailles\, salle Yunus.\nOuvert à tous. Le prix indiqué est celui des auditeurs libres.\nEnseignant Alain Plaignaud. \nDéroulement du séminaire: \nSamedi 19 octobre \n\n7:00 Accueil des participants à la méditation\n7:15 Méditation facultative\n8:30 Pause petit-déjeuner / Accueil des participants\n9:30 Pratique du sumi-e\n12:30 Pause déjeuner\n14:30 Pratique du sumi-e\n16:30 Atelier-conférence – Le sumi-e\, présentation générale\n19:00 Pause dîner\n20:00 Méditation (facultative)\n21:00 Echanges\n\nDimanche 20 octobre \n\n7:00 Méditation facultative\n8:00 Pause petit-déjeuner\n9:00 Pratique du sumi-e\n12:30 Pause déjeuner\n14:30 Pratique du sumi-e\n17:30 Rangement\n18:00 Fin du séminaire
URL:https://ecole.sumi-e.fr/evenement/seminaire-19-20-10-2019/
LOCATION:Ermitage Accueil Versailles\, 21-23 rue de l'Ermitage\, Versailles\, 78000\, France
CATEGORIES:Weekend
END:VEVENT
END:VCALENDAR