BEGIN:VCALENDAR
VERSION:2.0
PRODID:-//Ecole Internationale de Sumi-e - ECPv6.15.20//NONSGML v1.0//EN
CALSCALE:GREGORIAN
METHOD:PUBLISH
X-WR-CALNAME:Ecole Internationale de Sumi-e
X-ORIGINAL-URL:https://ecole.sumi-e.fr
X-WR-CALDESC:Évènements pour Ecole Internationale de Sumi-e
REFRESH-INTERVAL;VALUE=DURATION:PT1H
X-Robots-Tag:noindex
X-PUBLISHED-TTL:PT1H
BEGIN:VTIMEZONE
TZID:Europe/Paris
BEGIN:DAYLIGHT
TZOFFSETFROM:+0100
TZOFFSETTO:+0200
TZNAME:CEST
DTSTART:20200329T010000
END:DAYLIGHT
BEGIN:STANDARD
TZOFFSETFROM:+0200
TZOFFSETTO:+0100
TZNAME:CET
DTSTART:20201025T010000
END:STANDARD
BEGIN:DAYLIGHT
TZOFFSETFROM:+0100
TZOFFSETTO:+0200
TZNAME:CEST
DTSTART:20210328T010000
END:DAYLIGHT
BEGIN:STANDARD
TZOFFSETFROM:+0200
TZOFFSETTO:+0100
TZNAME:CET
DTSTART:20211031T010000
END:STANDARD
BEGIN:DAYLIGHT
TZOFFSETFROM:+0100
TZOFFSETTO:+0200
TZNAME:CEST
DTSTART:20220327T010000
END:DAYLIGHT
BEGIN:STANDARD
TZOFFSETFROM:+0200
TZOFFSETTO:+0100
TZNAME:CET
DTSTART:20221030T010000
END:STANDARD
BEGIN:DAYLIGHT
TZOFFSETFROM:+0100
TZOFFSETTO:+0200
TZNAME:CEST
DTSTART:20230326T010000
END:DAYLIGHT
BEGIN:STANDARD
TZOFFSETFROM:+0200
TZOFFSETTO:+0100
TZNAME:CET
DTSTART:20231029T010000
END:STANDARD
BEGIN:DAYLIGHT
TZOFFSETFROM:+0100
TZOFFSETTO:+0200
TZNAME:CEST
DTSTART:20240331T010000
END:DAYLIGHT
BEGIN:STANDARD
TZOFFSETFROM:+0200
TZOFFSETTO:+0100
TZNAME:CET
DTSTART:20241027T010000
END:STANDARD
END:VTIMEZONE
BEGIN:VEVENT
DTSTART;TZID=Europe/Paris:20230821T180000
DTEND;TZID=Europe/Paris:20230830T190000
DTSTAMP:20260421T163212
CREATED:20230116T151605Z
LAST-MODIFIED:20230329T152056Z
UID:10000271-1692640800-1693422000@ecole.sumi-e.fr
SUMMARY:Séminaire 21-30/08/2023
DESCRIPTION:This post is also available in: \n\n	English\n \n\n\n\nCliquez sur la brochure du stage pour la télécharger \n\n\n\n\nProgramme du stage\n\n\n\nLundi 21 août\n\n\n\n15:00 – 18:00 Arrivée et enregistrement.18:30 Accueil et début du stage.19:00 Dîner.20:30 Introduction à la méditation Zen Sôtô. \n\n\n\nMardi 22 – Vendredi 25 août\n\n\n\n07:00 Zazen et cérémonie09:00 Petit-déjeuner traditionnel Zen09:30 Café10:00 Sumi-e12:30 Déjeuner15:00 Sumi-e18:30 Zazen20:15 Dîner \n\n\n\nSamedi 26 août\n\n\n\n07:00 Zazen et cérémonie09:00 Petit-déjeuner traditionnel Zen09:30 Café10:00 Sumi-e12:30 Déjeuner festif15:00 Fin du stage \n\n\n\nDimanche 27 août\n\n\n\n15:00 – 18:00 Arrivée et enregistrement pour la sesshin.18:30 Accueil et début de la sesshin.19:00 Dîner.20:30 Introduction à la méditation Zen Sôtô. \n\n\n\nLundi 28 – Mardi 29 août\n\n\n\n07:00 Zazen et cérémonie09:00 Petit-déjeuner traditionnel Zen09:30 Café10:00 Zazen12:30 Déjeuner15:00 Zazen18:30 Zazen20:15 Dîner \n\n\n\nMercredi 30 août\n\n\n\n07:00 Zazen et cérémonie09:00 Petit-déjeuner traditionnel Zen09:30 Café10:00 Zazen et cérémonie13:00 Déjeuner festif15:00 Fin du stage \n\n\n\nLieu du stage\n\n\n\nLe stage aura lieu à :Centre Zen de Lanau15260 Neuvéglise France \n\n\n\nDédié à la pratique du zen\, le centre est situé dans le Cantal (près de Saint-Flour)\, au bord de la Truyère. Il est confortable\, ouvert sur la nature et propice au repos et à la méditation.Voir: www.tenborin.org \n\n\n\nTarifs\n\n\n\nFrais de participation (à titre de remboursement des dépenses) : \n\n\n\n\nStage complet : 650 € en chambre double\, 830 € en chambre individuelle\n\n\n\nSumi-e seulement : 550 € en chambre double\, 670 € en chambre individuelle\n\n\n\nSesshin seulement : 140 € en chambre double\, 190 € en chambre individuelle\n\n\n\n\nSont inclus dans le prix : \n\n\n\n\nhébergement dans chambres à 2-3 personnes avec douche et toilettes (serviettes de toilette et draps fournis). Option chambre individuelle : +15 €/jour (selon disponibilité).\n\n\n\nles repas (petit déjeuner\, déjeuner\, pause thé/café et dîner) préparés exclusivement avec des aliments biologiques.\n\n\n\nle matériel de peinture (papier d’entrainement\, papier de riz de différentes tailles\, encre et pinceau grand\, moyen et petit).\n\n\n\ninscription annuelle à l’association.\n\n\n\n\nConditions de règlement\n\n\n\nPrière de régler un acompte de 200 € à l’inscription. \n\n\n\nN.B: lors du stage\, les participants ont la possibilité de contribuer à la vie de la communauté en réalisant des tâches quotidiennes simples (« samu » en japonais) telles que la vaisselle\, le ménage\, la coupe des légumes\, etc. Ce travail bénévole est fait avec énergie dans un esprit de don et de concentration. \n\n\n\nContact et inscription\n\n\n\nTel: +39 380.7841180 (Ariane Eigen Mercier)e-mail: ariane@sumi-e.fr \n\n\n\nApporter\n\n\n\n\ndraps et taie d’oreiller. Sur place : 10 €\n\n\n\nune paire de chaussons ;\n\n\n\ndes vêtements amples et de couleur sombre et un zafu (coussin) pour la méditation ;\n\n\n\nun bol (dimension moyenne) pour les repas\, un tissu fin 40×40 cm pour l’envelopper et une cuillère.
URL:https://ecole.sumi-e.fr/evenement/seminaire-20-30-08-2022/
LOCATION:Centre Zen de Lanau\, Centre Zen de Lanau\, Neuvéglise\, 15260\, France
CATEGORIES:Stage
END:VEVENT
BEGIN:VEVENT
DTSTART;TZID=Europe/Paris:20220819T150000
DTEND;TZID=Europe/Paris:20220828T150000
DTSTAMP:20260421T163212
CREATED:20220106T151346Z
LAST-MODIFIED:20220707T183153Z
UID:10000254-1660921200-1661698800@ecole.sumi-e.fr
SUMMARY:Séminaire 19-28/08/2022
DESCRIPTION:This post is also available in: \n\n	English\n \n\n\n\nCliquez sur la brochure du stage pour la télécharger \n\n\n\n\nProgramme du stage\n\n\n\nVendredi 19 août\n\n\n\n15:00 – 18:00 Arrivée et enregistrement.18:30 Accueil et début du stage.19:00 Dîner.20:30 Introduction à la méditation Zen Sôtô. \n\n\n\nSamedi 20 – Mercredi 24 août\n\n\n\n07:00 Zazen et cérémonie09:00 Petit-déjeuner traditionnel Zen09:30 Café10:00 Sumi-e12:30 Déjeuner15:00 Sumi-e18:30 Zazen20:15 Dîner \n\n\n\nJeudi 25 août\n\n\n\n07:00 Zazen et cérémonie09:00 Petit-déjeuner traditionnel Zen09:30 Café10:00 Sumi-e12:30 Déjeuner festif15:00 Fin du stage \n\n\n\nPossibilité de ne participer qu’au week-end (19-21 août). \n\n\n\nVendredi 26 août\n\n\n\n15:00 – 18:00 Arrivée et enregistrement pour la sesshin.18:30 Accueil et début de la sesshin.19:00 Dîner.20:30 Introduction à la méditation Zen Sôtô. \n\n\n\nSamedi 27 août\n\n\n\n07:00 Zazen et cérémonie09:00 Petit-déjeuner traditionnel Zen09:30 Café10:00 Zazen12:30 Déjeuner15:00 Zazen18:30 Zazen20:15 Dîner \n\n\n\nDimanche 28 août\n\n\n\n07:00 Zazen et cérémonie09:00 Petit-déjeuner traditionnel Zen09:30 Café10:00 Zazen et cérémonie13:00 Déjeuner festif15:00 Fin du stage \n\n\n\nLieu du stage\n\n\n\nLe stage aura lieu à :Centre Zen de Lanau15260 Neuvéglise France \n\n\n\nDédié à la pratique du zen\, le centre est situé dans le Cantal (près de Saint-Flour)\, au bord de la Truyère. Il est confortable\, ouvert sur la nature et propice au repos et à la méditation.Voir: www.tenborin.org \n\n\n\nTarifs\n\n\n\nFrais de participation (à titre de remboursement des dépenses) : \n\n\n\nStage complet : 650 € en chambre doubleSumi-e seulement : 520 € en chambre doubleSesshin seulement : à préciser\n\n\n\nSont inclus dans le prix : \n\n\n\nhébergement dans chambres à 2-3 personnes avec douche et toilettes (serviettes de toilette et draps fournis). Option chambre individuelle : +15 €/jour (selon disponibilité).les repas (petit déjeuner\, déjeuner\, pause thé/café et dîner) préparés exclusivement avec des aliments biologiques.le matériel de peinture (papier d’entrainement\, papier de riz de différentes tailles\, encre et pinceau grand\, moyen et petit).inscription annuelle à l’association.\n\n\n\nConditions de règlement\n\n\n\nPrière de régler un acompte de 160 € à l’inscription. \n\n\n\nN.B: lors du stage\, les participants ont la possibilité de contribuer à la vie de la communauté en réalisant des tâches quotidiennes simples (« samu » en japonais) telles que la vaisselle\, le ménage\, la coupe des légumes\, etc. Ce travail bénévole est fait avec énergie dans un esprit de don et de concentration. \n\n\n\nContact et inscription\n\n\n\nTel: +39 380.7841180 (Ariane Eigen Mercier)e-mail: ariane@sumi-e.fr \n\n\n\nApporter\n\n\n\ndraps et taie d’oreiller. Sur place : 10 €une paire de chaussons ;des vêtements amples et de couleur sombre et un zafu (coussin) pour la méditation ;un bol (dimension moyenne) pour les repas\, un tissu fin 40×40 cm pour l’envelopper et une cuillère.
URL:https://ecole.sumi-e.fr/evenement/seminaire-19-28-08-2022/
LOCATION:Centre Zen de Lanau\, Centre Zen de Lanau\, Neuvéglise\, 15260\, France
CATEGORIES:Stage
END:VEVENT
BEGIN:VEVENT
DTSTART;TZID=Europe/Paris:20210824T150000
DTEND;TZID=Europe/Paris:20210829T150000
DTSTAMP:20260421T163212
CREATED:20210429T195356Z
LAST-MODIFIED:20210804T195947Z
UID:10000217-1629817200-1630249200@ecole.sumi-e.fr
SUMMARY:Séminaire 24-29/08/2021
DESCRIPTION:This post is also available in: \n\n	English\n Cliquez sur la brochure du stage pour la télécharger : \n \nProgramme du stage\nMardi 24 août\n15:00 – 18:00 Arrivée et enregistrement.18:30 Accueil et début du stage.19:00 Dîner.20:30 Introduction à la méditation Zen Sôtô. \nMercredi 25 – Samedi 28 août\n07:00 Zazen et cérémonie09:00 Petit-déjeuner traditionnel Zen09:30 Café10:00 Sumi-e12:30 Déjeuner15:00 Sumi-e18:30 Zazen20:15 Dîner \nDimanche 29 août\n07:00 Zazen et cérémonie09:00 Petit-déjeuner traditionnel Zen09:30 Café10:00 Sumi-e12:30 Déjeuner festif15:00 Fin du stage \nPossibilité de ne participer qu’au week-end (28-29 août). \nLieu du stage\nLe stage aura lieu à :Centre Zen de Lanau15260 Neuvéglise France \nDédié à la pratique du zen\, le centre est situé dans le Cantal (près de Saint-Flour)\, au bord de la Truyère. Il est confortable\, ouvert sur la nature et propice au repos et à la méditation.Voir: www.tenborin.org \nTarifs\nFrais de participation (à titre de remboursement des dépenses) : \n\nStage complet : € 520\nWeek-end seulement : € 295\n\nSont inclus dans le prix : \n\nhébergement dans chambres à 2-3 personnes avec douche et toilettes (serviettes de toilette et draps fournis). Option chambre individuelle : +15 €/jour (selon disponibilité).\nles repas (petit déjeuner\, déjeuner\, pause thé/café et dîner) préparés exclusivement avec des aliments biologiques.\nle matériel de peinture (papier d’entrainement\, papier de riz de différentes tailles\, encre et pinceau grand\, moyen et petit).\ninscription annuelle à l’association.\n\nConditions de règlement\nPrière de régler un acompte de 160 € à l’inscription. \nN.B: lors du stage\, les participants ont la possibilité de contribuer à la vie de la communauté en réalisant des tâches quotidiennes simples (« samu » en japonais) telles que la vaisselle\, le ménage\, la coupe des légumes\, etc. Ce travail bénévole est fait avec énergie dans un esprit de don et de concentration. \nContact et inscription\nTel: +39 380.7841180 (Ariane Eigen Mercier)e-mail: ariane@sumi-e.fr \nApporter\n\ndraps et taie d’oreiller. Sur place : 10 €\nune paire de chaussons ;\ndes vêtements amples et de couleur sombre et un zafu (coussin) pour la méditation ;\nun bol (dimension moyenne) pour les repas\, un tissu fin 40×40 cm pour l’envelopper et une cuillère.
URL:https://ecole.sumi-e.fr/evenement/seminaire-24-29-08-2021/
LOCATION:Centre Zen de Lanau\, Centre Zen de Lanau\, Neuvéglise\, 15260\, France
CATEGORIES:Stage
END:VEVENT
END:VCALENDAR