BEGIN:VCALENDAR
VERSION:2.0
PRODID:-//Ecole Internationale de Sumi-e - ECPv6.15.20//NONSGML v1.0//EN
CALSCALE:GREGORIAN
METHOD:PUBLISH
X-WR-CALNAME:Ecole Internationale de Sumi-e
X-ORIGINAL-URL:https://ecole.sumi-e.fr
X-WR-CALDESC:Évènements pour Ecole Internationale de Sumi-e
REFRESH-INTERVAL;VALUE=DURATION:PT1H
X-Robots-Tag:noindex
X-PUBLISHED-TTL:PT1H
BEGIN:VTIMEZONE
TZID:Europe/Paris
BEGIN:DAYLIGHT
TZOFFSETFROM:+0100
TZOFFSETTO:+0200
TZNAME:CEST
DTSTART:20250330T010000
END:DAYLIGHT
BEGIN:STANDARD
TZOFFSETFROM:+0200
TZOFFSETTO:+0100
TZNAME:CET
DTSTART:20251026T010000
END:STANDARD
BEGIN:DAYLIGHT
TZOFFSETFROM:+0100
TZOFFSETTO:+0200
TZNAME:CEST
DTSTART:20260329T010000
END:DAYLIGHT
BEGIN:STANDARD
TZOFFSETFROM:+0200
TZOFFSETTO:+0100
TZNAME:CET
DTSTART:20261025T010000
END:STANDARD
BEGIN:DAYLIGHT
TZOFFSETFROM:+0100
TZOFFSETTO:+0200
TZNAME:CEST
DTSTART:20270328T010000
END:DAYLIGHT
BEGIN:STANDARD
TZOFFSETFROM:+0200
TZOFFSETTO:+0100
TZNAME:CET
DTSTART:20271031T010000
END:STANDARD
END:VTIMEZONE
BEGIN:VEVENT
DTSTART;TZID=Europe/Paris:20260419T180000
DTEND;TZID=Europe/Paris:20260424T140000
DTSTAMP:20260421T114536
CREATED:20260125T140330Z
LAST-MODIFIED:20260309T093126Z
UID:10000328-1776621600-1777039200@ecole.sumi-e.fr
SUMMARY:Séminaire 20-24/04/2026
DESCRIPTION:Cinquième séminaire de l’Ecole pour l’année 2025-2026\, de 4 jours et demi\, avec pratique de la peinture sumi-e et de la méditation zen. \n\n\n\nOuvert à tous.Pour les auditeurs libres (cours loisirs)\, le prix indiqué est celui demandé pour le stage entier.La méditation est facultative. \n\n\n\nRésidentiel dans le très beau Château de Fay\, à une heure de Paris dans l’Oise. Un endroit merveilleux au calme\, dans un parc au milieu des chevaux. \n\n\n\nArrivée le dimanche 19 avril en fin d’après-midi.Départ le vendredi 24 avril après déjeuner. \n\n\n\nUne pause est ménagée en cours de la pratique du sumi-e du matin et de celle de l’après-midi. \n\n\n\nApporter un bol\, un tissu pour envelopper le bol\, une cuillère en bois\, des chaussons\, des vêtements amples et sombres pour la méditation. \n\n\n\nEnseignant Alain Plaignaud. \n\n\n\nDéroulement du séminaire:\n\n\n\nJournée : \n\n\n\n\n6:45 Accueil des participants à la méditation (7:45 le samedi)\n\n\n\n7:00 Méditation (facultative) (8:00 le samedi\, avec Beppe Mokuza par Zoom)\n\n\n\n8:30 Fin de la méditation (9:45 le samedi)\n\n\n\n8:45 Petit-déjeuner (10:00 le samedi / Accueil des participants le samedi\, si participation à l’ensemble des 5 jours)\n\n\n\n10:00 Pratique du sumi-e (10:45 le samedi)\n\n\n\n13:00 Déjeuner\n\n\n\n15:00 Pratique du sumi-e\n\n\n\n18:00 Fin de la pratique\n\n\n\n18:15 Nettoyage et rangement du matériel\n\n\n\n19:00 Méditation (facultative)\n\n\n\n20:30 Fin de la méditation\n\n\n\n20:45 Dîner\n\n\n\n21:30 Fin de la journée
URL:https://ecole.sumi-e.fr/evenement/seminaire-20-24-04-2026/
LOCATION:Château de Fay\, Château de Fay les Étangs\, 71\, rue du Château\, Fay les Étangs\, 60240\, France
ATTACH;FMTTYPE=image/jpeg:https://ecole.sumi-e.fr/wp-content/uploads/2025/07/Fay-cadre.jpg
END:VEVENT
END:VCALENDAR